BEGIN:VCALENDAR
VERSION:2.0
PRODID:-//Holistic Awakenings - ECPv6.15.20//NONSGML v1.0//EN
CALSCALE:GREGORIAN
METHOD:PUBLISH
X-ORIGINAL-URL:https://holisticawakenings.com
X-WR-CALDESC:Events for Holistic Awakenings
REFRESH-INTERVAL;VALUE=DURATION:PT1H
X-Robots-Tag:noindex
X-PUBLISHED-TTL:PT1H
BEGIN:VTIMEZONE
TZID:America/New_York
BEGIN:DAYLIGHT
TZOFFSETFROM:-0500
TZOFFSETTO:-0400
TZNAME:EDT
DTSTART:20250309T070000
END:DAYLIGHT
BEGIN:STANDARD
TZOFFSETFROM:-0400
TZOFFSETTO:-0500
TZNAME:EST
DTSTART:20251102T060000
END:STANDARD
BEGIN:DAYLIGHT
TZOFFSETFROM:-0500
TZOFFSETTO:-0400
TZNAME:EDT
DTSTART:20260308T070000
END:DAYLIGHT
BEGIN:STANDARD
TZOFFSETFROM:-0400
TZOFFSETTO:-0500
TZNAME:EST
DTSTART:20261101T060000
END:STANDARD
BEGIN:DAYLIGHT
TZOFFSETFROM:-0500
TZOFFSETTO:-0400
TZNAME:EDT
DTSTART:20270314T070000
END:DAYLIGHT
BEGIN:STANDARD
TZOFFSETFROM:-0400
TZOFFSETTO:-0500
TZNAME:EST
DTSTART:20271107T060000
END:STANDARD
END:VTIMEZONE
BEGIN:VEVENT
DTSTART;TZID=America/New_York:20260613T130000
DTEND;TZID=America/New_York:20260613T143000
DTSTAMP:20260422T174658
CREATED:20251124T145652Z
LAST-MODIFIED:20260217T143355Z
UID:12066-1781355600-1781361000@holisticawakenings.com
SUMMARY:An Evening with Spirit; Hope and Healing from across the Veil
DESCRIPTION:Bridging Two Worlds: A Mediumship Demonstration				\n				\n					\n		\n					\n		\n				\n							\n							\n					\n			\n						\n				\n					Live online psychic reading with two mediums sharing messages from spirit				\n				\n					\n		\n					\n		\n				\n						\n					\n			\n						\n				\n									Gallery Psychic Reading with Samantha Cooper & Jenna GalliganiJune 13th · 1 PM (EST) · Online Event via Zoom Join psychic mediums Samantha Cooper and Jenna Galligani for a Gallery Psychic Reading filled with heartfelt messages\, healing energy\, and meaningful connection. This unique online event offers the opportunity to witness real-time messages from loved ones in spirit\, delivered in a compassionate\, grounded setting. ✨ What to ExpectIn this gallery-style psychic reading\, Samantha and Jenna work together to bring through evidential messages\, personal validations\, and uplifting stories that remind us that love continues beyond the physical. Whether you receive a direct message or simply observe\, many guests find the shared experience deeply moving. While individual messages cannot be guaranteed\, spirit often works through group energy—offering healing and resonance for all attendees. This is an intimate\, love-centered evening where mediumship becomes a bridge between worlds. 🎟️ Your Ticket Includes YOU + A BUDDY!After purchasing\, just forward the confirmation email (with prep tips and the Zoom link) to your guest. Sharing the experience makes it even more special. 💫 About the MediumsSamantha CooperA professional psychic medium\, intuitive mentor\, and registered nurse\, Samantha blends her clinical background with grounded spiritual insight. She is known for creating safe\, validating spaces where spirit messages come through clearly and with compassion. Through public demonstrations and private mentorship\, Samantha helps others explore mediumship and deepen their connection to spirit. Jenna GalliganiJenna is a Licensed Professional Counselor\, Reiki Master/Teacher\, and Certified Brainspotting Practitioner with 20+ years of experience. After losing her vision in 2012\, she embraced her psychic and mediumship gifts and now helps others heal and connect with spirit through energy work\, intuition\, and holistic healing modalities. Tickets $35 – RSVP HERE
URL:https://holisticawakenings.com/event/spirit-messages-hope-healing/
LOCATION:Virtual Event\, PA\, United States
ORGANIZER;CN="Jenna Galligani%2C MS%2C LPC":MAILTO:jenna@holisticawakenings.com
END:VEVENT
END:VCALENDAR